BEGIN:VCALENDAR
VERSION:2.0
PRODID:-//Guagua de Cuentos - ECPv6.14.2//NONSGML v1.0//EN
CALSCALE:GREGORIAN
METHOD:PUBLISH
X-ORIGINAL-URL:https://guaguadecuentos.com
X-WR-CALDESC:Eventos para Guagua de Cuentos
REFRESH-INTERVAL;VALUE=DURATION:PT1H
X-Robots-Tag:noindex
X-PUBLISHED-TTL:PT1H
BEGIN:VTIMEZONE
TZID:Europe/Berlin
BEGIN:DAYLIGHT
TZOFFSETFROM:+0100
TZOFFSETTO:+0200
TZNAME:CEST
DTSTART:20220327T010000
END:DAYLIGHT
BEGIN:STANDARD
TZOFFSETFROM:+0200
TZOFFSETTO:+0100
TZNAME:CET
DTSTART:20221030T010000
END:STANDARD
END:VTIMEZONE
BEGIN:VEVENT
DTSTART;TZID=Europe/Berlin:20220204T120000
DTEND;TZID=Europe/Berlin:20220204T133000
DTSTAMP:20260422T164956
CREATED:20220623T115931Z
LAST-MODIFIED:20230224T114915Z
UID:1601-1643976000-1643981400@guaguadecuentos.com
SUMMARY:Guagua en Digitale Drehtur
DESCRIPTION:GUAGUA macht am 04.02.2022 in der Digitale Drehtur mit – Bundesweit. (ONLINE) Inspiration Week. (2 Kurse) \nMehr infos: Digitale Drehtür – (digitale-drehtuer.de)
URL:https://guaguadecuentos.com/evento/guagua-macht-am-29-12-2021-bis-04-12-2021-in-der-digitale-drehtur-mit-bundesweit-online-inspiration-week-2-kurse/
CATEGORIES:online
ATTACH;FMTTYPE=image/png:https://guaguadecuentos.com/wp-content/uploads/2022/06/LOGOneueFarben-071-2f756260-1920w.png
END:VEVENT
END:VCALENDAR